Package: ssrch Version: 1.16.0 Command: /Library/Frameworks/R.framework/Resources/bin/R CMD build --keep-empty-dirs --no-resave-data ssrch StartedAt: 2023-10-15 21:41:29 -0400 (Sun, 15 Oct 2023) EndedAt: 2023-10-15 21:41:52 -0400 (Sun, 15 Oct 2023) EllapsedTime: 23.0 seconds RetCode: 0 Status: OK PackageFile: ssrch_1.16.0.tar.gz PackageFileSize: 1.443 MiB