Package: ssrch Version: 1.16.0 Command: chmod a+r ssrch -R && F:\biocbuild\bbs-3.17-bioc\R\bin\R.exe CMD build --keep-empty-dirs --no-resave-data ssrch StartedAt: 2023-10-15 22:40:51 -0400 (Sun, 15 Oct 2023) EndedAt: 2023-10-15 22:41:04 -0400 (Sun, 15 Oct 2023) EllapsedTime: 13.1 seconds RetCode: 0 Status: OK PackageFile: ssrch_1.16.0.tar.gz PackageFileSize: 1.443 MiB