Package: stJoincount Version: 1.2.0 Command: chmod a+r stJoincount -R && F:\biocbuild\bbs-3.17-bioc\R\bin\R.exe CMD build --keep-empty-dirs --no-resave-data stJoincount StartedAt: 2023-10-15 22:42:26 -0400 (Sun, 15 Oct 2023) EndedAt: 2023-10-15 22:43:54 -0400 (Sun, 15 Oct 2023) EllapsedTime: 88.6 seconds RetCode: 0 Status: OK PackageFile: stJoincount_1.2.0.tar.gz PackageFileSize: 2.606 MiB