Package: stepNorm Version: 1.72.0 Command: /home/biocbuild/bbs-3.17-bioc/R/bin/R CMD check --install=check:stepNorm.install-out.txt --library=/home/biocbuild/bbs-3.17-bioc/R/site-library --timings stepNorm_1.72.0.tar.gz StartedAt: 2023-10-16 01:31:38 -0400 (Mon, 16 Oct 2023) EndedAt: 2023-10-16 01:32:44 -0400 (Mon, 16 Oct 2023) EllapsedTime: 66.3 seconds RetCode: 0 Status: OK CheckDir: stepNorm.Rcheck Warnings: 0