Package: svaRetro Version: 1.6.0 Command: rm -rf svaRetro.buildbin-libdir && mkdir svaRetro.buildbin-libdir && /Users/biocbuild/BBS/utils/build-universal.sh svaRetro_1.6.0.tar.gz /Library/Frameworks/R.framework/Resources/bin/R svaRetro.buildbin-libdir StartedAt: 2023-10-16 10:19:29 -0400 (Mon, 16 Oct 2023) EndedAt: 2023-10-16 10:21:36 -0400 (Mon, 16 Oct 2023) EllapsedTime: 127.5 seconds RetCode: 0 Status: OK PackageFile: svaRetro_1.6.0.tgz PackageFileSize: 1.529 MiB