Package: synapsis Version: 1.6.0 Command: rm -rf synapsis.buildbin-libdir && mkdir synapsis.buildbin-libdir && /Users/biocbuild/BBS/utils/build-universal.sh synapsis_1.6.0.tar.gz /Library/Frameworks/R.framework/Resources/bin/R synapsis.buildbin-libdir StartedAt: 2023-10-16 10:19:50 -0400 (Mon, 16 Oct 2023) EndedAt: 2023-10-16 10:20:08 -0400 (Mon, 16 Oct 2023) EllapsedTime: 18.0 seconds RetCode: 0 Status: OK PackageFile: synapsis_1.6.0.tgz PackageFileSize: 3.545 MiB