Package: synapsis Version: 1.6.0 Command: /Library/Frameworks/R.framework/Resources/bin/R CMD INSTALL synapsis StartedAt: 2023-10-15 15:45:46 -0400 (Sun, 15 Oct 2023) EndedAt: 2023-10-15 15:46:02 -0400 (Sun, 15 Oct 2023) EllapsedTime: 16.3 seconds RetCode: 0 Status: OK