Package: systemPipeTools Version: 1.8.0 Command: /Library/Frameworks/R.framework/Resources/bin/R CMD check --install=check:systemPipeTools.install-out.txt --library=/Library/Frameworks/R.framework/Resources/library --no-vignettes --timings systemPipeTools_1.8.0.tar.gz StartedAt: 2023-10-16 07:54:38 -0400 (Mon, 16 Oct 2023) EndedAt: 2023-10-16 08:05:21 -0400 (Mon, 16 Oct 2023) EllapsedTime: 642.5 seconds RetCode: 0 Status: WARNINGS CheckDir: systemPipeTools.Rcheck Warnings: 1