Package: systemPipeTools Version: 1.8.0 Command: /Library/Frameworks/R.framework/Resources/bin/R CMD INSTALL systemPipeTools StartedAt: 2023-10-15 16:15:43 -0400 (Sun, 15 Oct 2023) EndedAt: 2023-10-15 16:16:59 -0400 (Sun, 15 Oct 2023) EllapsedTime: 76.5 seconds RetCode: 0 Status: OK