Package: tRanslatome Version: 1.38.0 Command: /Library/Frameworks/R.framework/Resources/bin/R CMD build --keep-empty-dirs --no-resave-data tRanslatome StartedAt: 2023-10-15 21:57:32 -0400 (Sun, 15 Oct 2023) EndedAt: 2023-10-15 22:00:50 -0400 (Sun, 15 Oct 2023) EllapsedTime: 197.8 seconds RetCode: 0 Status: OK PackageFile: tRanslatome_1.38.0.tar.gz PackageFileSize: 936.3 KiB