Package: tRanslatome Version: 1.38.0 Command: /Library/Frameworks/R.framework/Resources/bin/R CMD INSTALL tRanslatome StartedAt: 2023-10-15 16:07:40 -0400 (Sun, 15 Oct 2023) EndedAt: 2023-10-15 16:09:53 -0400 (Sun, 15 Oct 2023) EllapsedTime: 132.2 seconds RetCode: 0 Status: OK