Package: tidySummarizedExperiment Version: 1.10.0 Command: /home/biocbuild/bbs-3.17-bioc/R/bin/R CMD build --keep-empty-dirs --no-resave-data tidySummarizedExperiment StartedAt: 2023-10-15 18:48:16 -0400 (Sun, 15 Oct 2023) EndedAt: 2023-10-15 18:48:54 -0400 (Sun, 15 Oct 2023) EllapsedTime: 38.3 seconds RetCode: 0 Status: OK PackageFile: tidySummarizedExperiment_1.10.0.tar.gz PackageFileSize: 427.2 KiB