Package: tigre Version: 1.54.0 Command: /home/biocbuild/bbs-3.17-bioc/R/bin/R CMD build --keep-empty-dirs --no-resave-data tigre StartedAt: 2023-10-15 18:48:26 -0400 (Sun, 15 Oct 2023) EndedAt: 2023-10-15 18:51:32 -0400 (Sun, 15 Oct 2023) EllapsedTime: 186.1 seconds RetCode: 0 Status: OK PackageFile: tigre_1.54.0.tar.gz PackageFileSize: 318.3 KiB