Package: tigre Version: 1.54.0 Command: /home/biocbuild/bbs-3.17-bioc/R/bin/R CMD check --install=check:tigre.install-out.txt --library=/home/biocbuild/bbs-3.17-bioc/R/site-library --timings tigre_1.54.0.tar.gz StartedAt: 2023-10-16 01:44:56 -0400 (Mon, 16 Oct 2023) EndedAt: 2023-10-16 01:52:48 -0400 (Mon, 16 Oct 2023) EllapsedTime: 471.7 seconds RetCode: 0 Status: OK CheckDir: tigre.Rcheck Warnings: 0