Package: tigre Version: 1.54.0 Command: rm -rf tigre.buildbin-libdir && mkdir tigre.buildbin-libdir && F:\biocbuild\bbs-3.17-bioc\R\bin\R.exe CMD INSTALL --build --library=tigre.buildbin-libdir tigre_1.54.0.tar.gz StartedAt: 2023-10-16 09:39:17 -0400 (Mon, 16 Oct 2023) EndedAt: 2023-10-16 09:39:49 -0400 (Mon, 16 Oct 2023) EllapsedTime: 32.4 seconds RetCode: 0 Status: OK PackageFile: tigre_1.54.0.zip PackageFileSize: 991.9 KiB