Package: tomoseqr Version: 1.4.0 Command: rm -rf tomoseqr.buildbin-libdir && mkdir tomoseqr.buildbin-libdir && F:\biocbuild\bbs-3.17-bioc\R\bin\R.exe CMD INSTALL --build --library=tomoseqr.buildbin-libdir tomoseqr_1.4.0.tar.gz StartedAt: 2023-10-16 09:39:51 -0400 (Mon, 16 Oct 2023) EndedAt: 2023-10-16 09:40:04 -0400 (Mon, 16 Oct 2023) EllapsedTime: 13.6 seconds RetCode: 0 Status: OK PackageFile: tomoseqr_1.4.0.zip PackageFileSize: 1.223 MiB