Package: transomics2cytoscape Version: 1.10.0 Command: F:\biocbuild\bbs-3.17-bioc\R\bin\R.exe CMD INSTALL transomics2cytoscape StartedAt: 2023-10-15 16:35:30 -0400 (Sun, 15 Oct 2023) EndedAt: 2023-10-15 16:35:36 -0400 (Sun, 15 Oct 2023) EllapsedTime: 5.9 seconds RetCode: 0 Status: OK