Package: traseR Version: 1.30.0 Command: /home/biocbuild/bbs-3.17-bioc/R/bin/R CMD build --keep-empty-dirs --no-resave-data traseR StartedAt: 2023-10-15 18:50:51 -0400 (Sun, 15 Oct 2023) EndedAt: 2023-10-15 18:51:39 -0400 (Sun, 15 Oct 2023) EllapsedTime: 47.7 seconds RetCode: 0 Status: OK PackageFile: traseR_1.30.0.tar.gz PackageFileSize: 6.222 MiB