Package: traseR Version: 1.30.0 Command: chmod a+r traseR -R && F:\biocbuild\bbs-3.17-bioc\R\bin\R.exe CMD build --keep-empty-dirs --no-resave-data traseR StartedAt: 2023-10-15 22:55:07 -0400 (Sun, 15 Oct 2023) EndedAt: 2023-10-15 22:56:01 -0400 (Sun, 15 Oct 2023) EllapsedTime: 54.6 seconds RetCode: 0 Status: OK PackageFile: traseR_1.30.0.tar.gz PackageFileSize: 6.222 MiB