Package: tricycle Version: 1.8.0 Command: /Library/Frameworks/R.framework/Resources/bin/R CMD INSTALL tricycle StartedAt: 2023-10-15 16:18:44 -0400 (Sun, 15 Oct 2023) EndedAt: 2023-10-15 16:20:23 -0400 (Sun, 15 Oct 2023) EllapsedTime: 98.5 seconds RetCode: 0 Status: OK