Package: tricycle Version: 1.8.0 Command: chmod a+r tricycle -R && F:\biocbuild\bbs-3.17-bioc\R\bin\R.exe CMD build --keep-empty-dirs --no-resave-data tricycle StartedAt: 2023-10-15 22:56:02 -0400 (Sun, 15 Oct 2023) EndedAt: 2023-10-15 22:58:13 -0400 (Sun, 15 Oct 2023) EllapsedTime: 130.9 seconds RetCode: 0 Status: OK PackageFile: tricycle_1.8.0.tar.gz PackageFileSize: 3.646 MiB