Package: tweeDEseq Version: 1.46.2 Command: rm -rf tweeDEseq.buildbin-libdir && mkdir tweeDEseq.buildbin-libdir && /Users/biocbuild/BBS/utils/build-universal.sh tweeDEseq_1.46.2.tar.gz /Library/Frameworks/R.framework/Resources/bin/R tweeDEseq.buildbin-libdir StartedAt: 2023-10-16 10:23:36 -0400 (Mon, 16 Oct 2023) EndedAt: 2023-10-16 10:23:55 -0400 (Mon, 16 Oct 2023) EllapsedTime: 18.6 seconds RetCode: 0 Status: OK PackageFile: tweeDEseq_1.46.2.tgz PackageFileSize: 350.3 KiB