Package: tweeDEseq Version: 1.46.2 Command: /home/biocbuild/bbs-3.17-bioc/R/bin/R CMD check --install=check:tweeDEseq.install-out.txt --library=/home/biocbuild/bbs-3.17-bioc/R/site-library --timings tweeDEseq_1.46.2.tar.gz StartedAt: 2023-10-16 01:57:23 -0400 (Mon, 16 Oct 2023) EndedAt: 2023-10-16 02:17:19 -0400 (Mon, 16 Oct 2023) EllapsedTime: 1196.3 seconds RetCode: 0 Status: WARNINGS CheckDir: tweeDEseq.Rcheck Warnings: 1