Package: tweeDEseq Version: 1.46.2 Command: /home/biocbuild/bbs-3.17-bioc/R/bin/R CMD INSTALL tweeDEseq StartedAt: 2023-10-15 15:39:39 -0400 (Sun, 15 Oct 2023) EndedAt: 2023-10-15 15:39:44 -0400 (Sun, 15 Oct 2023) EllapsedTime: 4.4 seconds RetCode: 0 Status: OK