Package: tweeDEseq Version: 1.46.2 Command: chmod a+r tweeDEseq -R && F:\biocbuild\bbs-3.17-bioc\R\bin\R.exe CMD build --keep-empty-dirs --no-resave-data tweeDEseq StartedAt: 2023-10-15 22:57:58 -0400 (Sun, 15 Oct 2023) EndedAt: 2023-10-15 23:06:21 -0400 (Sun, 15 Oct 2023) EllapsedTime: 502.7 seconds RetCode: 0 Status: OK PackageFile: tweeDEseq_1.46.2.tar.gz PackageFileSize: 234.5 KiB