Package: tximeta Version: 1.18.3 Command: rm -rf tximeta.buildbin-libdir && mkdir tximeta.buildbin-libdir && /Users/biocbuild/BBS/utils/build-universal.sh tximeta_1.18.3.tar.gz /Library/Frameworks/R.framework/Resources/bin/R tximeta.buildbin-libdir StartedAt: 2023-10-02 10:40:27 -0400 (Mon, 02 Oct 2023) EndedAt: 2023-10-02 10:42:39 -0400 (Mon, 02 Oct 2023) EllapsedTime: 132.2 seconds RetCode: 0 Status: OK PackageFile: tximeta_1.18.3.tgz PackageFileSize: 749.4 KiB