Package: tximeta Version: 1.18.3 Command: /Library/Frameworks/R.framework/Resources/bin/R CMD build --keep-empty-dirs --no-resave-data tximeta StartedAt: 2023-10-15 22:01:25 -0400 (Sun, 15 Oct 2023) EndedAt: 2023-10-15 22:03:25 -0400 (Sun, 15 Oct 2023) EllapsedTime: 120.4 seconds RetCode: 1 Status: ERROR PackageFile: None PackageFileSize: NA