Package: tximeta Version: 1.18.3 Command: /Library/Frameworks/R.framework/Resources/bin/R CMD check --install=check:tximeta.install-out.txt --library=/Library/Frameworks/R.framework/Resources/library --no-vignettes --timings tximeta_1.18.3.tar.gz StartedAt: 2023-10-02 08:35:24 -0400 (Mon, 02 Oct 2023) EndedAt: 2023-10-02 08:49:18 -0400 (Mon, 02 Oct 2023) EllapsedTime: 833.9 seconds RetCode: 0 Status: OK CheckDir: tximeta.Rcheck Warnings: 0