Package: tximeta Version: 1.18.3 Command: /Library/Frameworks/R.framework/Resources/bin/R CMD INSTALL tximeta StartedAt: 2023-10-15 16:33:44 -0400 (Sun, 15 Oct 2023) EndedAt: 2023-10-15 16:35:40 -0400 (Sun, 15 Oct 2023) EllapsedTime: 115.3 seconds RetCode: 0 Status: OK