Package: tximeta Version: 1.18.3 Command: F:\biocbuild\bbs-3.17-bioc\R\bin\R.exe CMD INSTALL tximeta StartedAt: 2023-10-15 17:06:06 -0400 (Sun, 15 Oct 2023) EndedAt: 2023-10-15 17:06:51 -0400 (Sun, 15 Oct 2023) EllapsedTime: 45.1 seconds RetCode: 0 Status: OK