Package: variancePartition Version: 1.30.2 Command: rm -rf variancePartition.buildbin-libdir && mkdir variancePartition.buildbin-libdir && /Users/biocbuild/BBS/utils/build-universal.sh variancePartition_1.30.2.tar.gz /Library/Frameworks/R.framework/Resources/bin/R variancePartition.buildbin-libdir StartedAt: 2023-10-16 10:24:06 -0400 (Mon, 16 Oct 2023) EndedAt: 2023-10-16 10:25:05 -0400 (Mon, 16 Oct 2023) EllapsedTime: 58.6 seconds RetCode: 0 Status: OK PackageFile: variancePartition_1.30.2.tgz PackageFileSize: 4.037 MiB