Package: vsclust Version: 1.2.0 Command: rm -rf vsclust.buildbin-libdir && mkdir vsclust.buildbin-libdir && F:\biocbuild\bbs-3.17-bioc\R\bin\R.exe CMD INSTALL --build --library=vsclust.buildbin-libdir vsclust_1.2.0.tar.gz StartedAt: 2023-10-16 09:42:38 -0400 (Mon, 16 Oct 2023) EndedAt: 2023-10-16 09:43:25 -0400 (Mon, 16 Oct 2023) EllapsedTime: 47.0 seconds RetCode: 0 Status: OK PackageFile: vsclust_1.2.0.zip PackageFileSize: 2.27 MiB