Package: vsclust Version: 1.2.0 Command: F:\biocbuild\bbs-3.17-bioc\R\bin\R.exe CMD check --no-multiarch --install=check:vsclust.install-out.txt --library=F:\biocbuild\bbs-3.17-bioc\R\library --no-vignettes --timings vsclust_1.2.0.tar.gz StartedAt: 2023-10-16 08:02:21 -0400 (Mon, 16 Oct 2023) EndedAt: 2023-10-16 08:02:26 -0400 (Mon, 16 Oct 2023) EllapsedTime: 5.0 seconds RetCode: 1 Status: ERROR CheckDir: vsclust.Rcheck Warnings: NA