############################################################################## ############################################################################## ### ### Running command: ### ### F:\biocbuild\bbs-3.17-bioc\R\bin\R.exe CMD INSTALL vsclust ### ############################################################################## ############################################################################## * installing to library 'F:/biocbuild/bbs-3.17-bioc/R/library' * installing *source* package 'vsclust' ... ** using staged installation ** libs using C++ compiler: 'G__~1.EXE (GCC) 12.2.0' g++ -std=gnu++17 -shared -s -static-libgcc -o vsclust.dll tmp.def RcppExports.o vsclust_algo.o -LC:/rtools43/x86_64-w64-mingw32.static.posix/lib/x64 -LC:/rtools43/x86_64-w64-mingw32.static.posix/lib -LF:/biocbuild/bbs-3.17-bioc/R/bin/x64 -lR collect2.exe: error: ld returned 5 exit status installing to F:/biocbuild/bbs-3.17-bioc/R/library/00LOCK-vsclust/00new/vsclust/libs/x64 ** R ** data ** inst ** byte-compile and prepare package for lazy loading ** help *** installing help indices ** building package indices ** installing vignettes ** testing if installed package can be loaded from temporary location Error: package or namespace load failed for 'vsclust' in inDL(x, as.logical(local), as.logical(now), ...): unable to load shared object 'F:/biocbuild/bbs-3.17-bioc/R/library/00LOCK-vsclust/00new/vsclust/libs/x64/vsclust.dll': LoadLibrary failure: %1 is not a valid Win32 application. Error: loading failed Execution halted ERROR: loading failed * removing 'F:/biocbuild/bbs-3.17-bioc/R/library/vsclust'