git_url: https://git.bioconductor.org/packages/wpm git_branch: RELEASE_3_17 git_last_commit: 2b92d8f git_last_commit_date: 2023-04-25 11:20:31 -0400 (Tue, 25 Apr 2023) Package: wpm Version: 1.10.0 Maintainer: Helene Borges MaintainerEmail: borges.helene.sophie at gmail.com