Package: zenith Version: 1.2.0 Command: F:\biocbuild\bbs-3.17-bioc\R\bin\R.exe CMD INSTALL zenith StartedAt: 2023-10-15 16:34:47 -0400 (Sun, 15 Oct 2023) EndedAt: 2023-10-15 16:35:37 -0400 (Sun, 15 Oct 2023) EllapsedTime: 50.0 seconds RetCode: 0 Status: OK