Package: autonomics Version: 1.8.0 Command: F:\biocbuild\bbs-3.17-bioc\R\bin\R.exe CMD check --no-multiarch --test-dir=longtests --no-stop-on-test-error --no-codoc --no-examples --no-manual --ignore-vignettes --check-subdirs=no autonomics_1.8.0.tar.gz StartedAt: 2023-10-14 11:04:37 -0400 (Sat, 14 Oct 2023) EndedAt: 2023-10-14 11:07:29 -0400 (Sat, 14 Oct 2023) EllapsedTime: 172.2 seconds RetCode: 1 Status: ERROR CheckDir: autonomics.Rcheck Warnings: NA