Package: basilisk Version: 1.12.1 Command: /Library/Frameworks/R.framework/Resources/bin/R CMD check --test-dir=longtests --no-stop-on-test-error --no-codoc --no-examples --no-manual --ignore-vignettes --check-subdirs=no basilisk_1.12.1.tar.gz StartedAt: 2023-10-14 11:02:41 -0400 (Sat, 14 Oct 2023) EndedAt: 2023-10-14 11:04:11 -0400 (Sat, 14 Oct 2023) EllapsedTime: 89.7 seconds RetCode: 0 Status: WARNINGS CheckDir: basilisk.Rcheck Warnings: 1