Package: biodbHmdb Version: 1.6.1 Command: /home/biocbuild/bbs-3.17-bioc/R/bin/R CMD check --test-dir=longtests --no-stop-on-test-error --no-codoc --no-examples --no-manual --ignore-vignettes --check-subdirs=no biodbHmdb_1.6.1.tar.gz StartedAt: 2023-10-14 11:04:52 -0400 (Sat, 14 Oct 2023) EndedAt: 2023-10-14 11:17:19 -0400 (Sat, 14 Oct 2023) EllapsedTime: 747.7 seconds RetCode: 0 Status: WARNINGS CheckDir: biodbHmdb.Rcheck Warnings: 2