Package: extraChIPs Version: 1.4.6 Command: chmod a+r extraChIPs -R && F:\biocbuild\bbs-3.17-bioc\R\bin\R.exe CMD build --keep-empty-dirs --no-resave-data --no-build-vignettes --no-manual extraChIPs StartedAt: 2023-10-14 11:03:24 -0400 (Sat, 14 Oct 2023) EndedAt: 2023-10-14 11:03:53 -0400 (Sat, 14 Oct 2023) EllapsedTime: 29.5 seconds RetCode: 0 Status: OK PackageFile: extraChIPs_1.4.6.tar.gz PackageFileSize: 1.265 MiB