Back to Long Tests report for BioC 3.17 |
This page was generated on 2023-10-14 21:30:02 -0400 (Sat, 14 Oct 2023).
Hostname | OS | Arch (*) | R version | Installed pkgs |
---|---|---|---|---|
nebbiolo1 | Linux (Ubuntu 22.04.2 LTS) | x86_64 | 4.3.1 (2023-06-16) -- "Beagle Scouts" | 4626 |
palomino3 | Windows Server 2022 Datacenter | x64 | 4.3.1 (2023-06-16 ucrt) -- "Beagle Scouts" | 4379 |
merida1 | macOS 12.6.4 Monterey | x86_64 | 4.3.1 (2023-06-16) -- "Beagle Scouts" | 4395 |
Click on any hostname to see more info about the system (e.g. compilers) (*) as reported by 'uname -p', except on Windows and Mac OS X |
Package 27/31 | Hostname | OS / Arch | CHECK | |||||||
rhdf5 2.44.0 (landing page) Mike Smith
| nebbiolo1 | Linux (Ubuntu 22.04.2 LTS) / x86_64 | ERROR | |||||||
palomino3 | Windows Server 2022 Datacenter / x64 | ERROR | ||||||||
merida1 | macOS 12.6.4 Monterey / x86_64 | ERROR | ||||||||
To the developers/maintainers of the rhdf5 package: - Use the following Renviron settings to reproduce errors and warnings. - If 'R CMD check' started to fail recently on the Linux builder(s) over a missing dependency, add the missing dependency to 'Suggests:' in your DESCRIPTION file. See Renviron.bioc for more information. |
Package: rhdf5 |
Version: 2.44.0 |
Command: chmod a+r rhdf5 -R && F:\biocbuild\bbs-3.17-bioc\R\bin\R.exe CMD build --keep-empty-dirs --no-resave-data --no-build-vignettes --no-manual rhdf5 |
StartedAt: 2023-10-14 11:03:45 -0400 (Sat, 14 Oct 2023) |
EndedAt: 2023-10-14 11:04:15 -0400 (Sat, 14 Oct 2023) |
EllapsedTime: 30.1 seconds |
RetCode: 0 |
Status: OK |
PackageFile: rhdf5_2.44.0.tar.gz |
PackageFileSize: 399.9 KiB |
############################################################################## ############################################################################## ### ### Running command: ### ### chmod a+r rhdf5 -R && F:\biocbuild\bbs-3.17-bioc\R\bin\R.exe CMD build --keep-empty-dirs --no-resave-data --no-build-vignettes --no-manual rhdf5 ### ############################################################################## ############################################################################## * checking for file 'rhdf5/DESCRIPTION' ... OK * preparing 'rhdf5': * checking DESCRIPTION meta-information ... OK * cleaning src * running 'cleanup.win' * checking for LF line-endings in source and make files and shell scripts * checking for empty or unneeded directories * building 'rhdf5_2.44.0.tar.gz' Warning: file 'rhdf5/cleanup' did not have execute permissions: corrected Warning: file 'rhdf5/configure' did not have execute permissions: corrected