Package: zellkonverter
Version: 1.10.1
Command: F:\biocbuild\bbs-3.17-bioc\R\bin\R.exe CMD check --no-multiarch --test-dir=longtests --no-stop-on-test-error --no-codoc --no-examples --no-manual --ignore-vignettes --check-subdirs=no zellkonverter_1.10.1.tar.gz
StartedAt: 2023-10-14 11:28:16 -0400 (Sat, 14 Oct 2023)
EndedAt: 2023-10-14 12:00:15 -0400 (Sat, 14 Oct 2023)
EllapsedTime: 1918.8 seconds
RetCode: 1
Status: ERROR
CheckDir: zellkonverter.Rcheck
Warnings: NA