git_url: https://git.bioconductor.org/packages/AWFisher git_branch: RELEASE_3_17 git_last_commit: b479dbc git_last_commit_date: 2023-04-25 11:11:11 -0400 (Tue, 25 Apr 2023) Package: AWFisher Version: 1.14.0 Maintainer: Zhiguang Huo MaintainerEmail: zhuo at ufl.edu