git_url: https://git.bioconductor.org/packages/BCRANK git_branch: RELEASE_3_17 git_last_commit: 377e513 git_last_commit_date: 2023-04-25 09:46:24 -0400 (Tue, 25 Apr 2023) Package: BCRANK Version: 1.62.0 Maintainer: Adam Ameur MaintainerEmail: Adam.Ameur at genpat.uu.se