Package: BiocSingular Version: 1.16.0 Command: /Library/Frameworks/R.framework/Resources/bin/R CMD build --keep-empty-dirs --no-resave-data BiocSingular StartedAt: 2023-10-15 22:01:09 -0400 (Sun, 15 Oct 2023) EndedAt: 2023-10-15 22:02:19 -0400 (Sun, 15 Oct 2023) EllapsedTime: 70.0 seconds RetCode: 0 Status: OK PackageFile: BiocSingular_1.16.0.tar.gz PackageFileSize: 600.7 KiB