Package: BiocStyle Version: 2.28.1 Command: /Library/Frameworks/R.framework/Resources/bin/R CMD check --install=check:BiocStyle.install-out.txt --library=/Library/Frameworks/R.framework/Resources/library --no-vignettes --timings BiocStyle_2.28.1.tar.gz StartedAt: 2023-10-17 05:38:23 -0400 (Tue, 17 Oct 2023) EndedAt: 2023-10-17 05:40:20 -0400 (Tue, 17 Oct 2023) EllapsedTime: 117.4 seconds RetCode: 0 Status: OK CheckDir: BiocStyle.Rcheck Warnings: 0