Package: BiocWorkflowTools Version: 1.26.0 Command: /Library/Frameworks/R.framework/Resources/bin/R CMD INSTALL BiocWorkflowTools StartedAt: 2023-10-15 17:40:03 -0400 (Sun, 15 Oct 2023) EndedAt: 2023-10-15 17:40:10 -0400 (Sun, 15 Oct 2023) EllapsedTime: 6.8 seconds RetCode: 0 Status: OK