git_url: https://git.bioconductor.org/packages/CBNplot git_branch: RELEASE_3_17 git_last_commit: eee8d87 git_last_commit_date: 2023-04-25 11:44:18 -0400 (Tue, 25 Apr 2023) Package: CBNplot Version: 1.0.0 Maintainer: Noriaki Sato MaintainerEmail: nori at hgc.jp