Package: CGEN Version: 3.36.1 Command: /Library/Frameworks/R.framework/Resources/bin/R CMD build --keep-empty-dirs --no-resave-data CGEN StartedAt: 2023-10-15 23:05:29 -0400 (Sun, 15 Oct 2023) EndedAt: 2023-10-15 23:06:31 -0400 (Sun, 15 Oct 2023) EllapsedTime: 62.0 seconds RetCode: 0 Status: OK PackageFile: CGEN_3.36.1.tar.gz PackageFileSize: 981 KiB