Package: CGHregions Version: 1.58.0 Command: /Library/Frameworks/R.framework/Resources/bin/R CMD build --keep-empty-dirs --no-resave-data CGHregions StartedAt: 2023-10-15 23:07:37 -0400 (Sun, 15 Oct 2023) EndedAt: 2023-10-15 23:07:53 -0400 (Sun, 15 Oct 2023) EllapsedTime: 16.0 seconds RetCode: 0 Status: OK PackageFile: CGHregions_1.58.0.tar.gz PackageFileSize: 213.1 KiB